BEGIN:VCALENDAR
VERSION:2.0
PRODID:-//Slavonija i Podravina - ECPv6.15.13//NONSGML v1.0//EN
CALSCALE:GREGORIAN
METHOD:PUBLISH
X-WR-CALNAME:Slavonija i Podravina
X-ORIGINAL-URL:https://www.slavonija-podravina-events.hr
X-WR-CALDESC:Events for Slavonija i Podravina
REFRESH-INTERVAL;VALUE=DURATION:PT1H
X-Robots-Tag:noindex
X-PUBLISHED-TTL:PT1H
BEGIN:VTIMEZONE
TZID:Europe/Paris
BEGIN:DAYLIGHT
TZOFFSETFROM:+0100
TZOFFSETTO:+0200
TZNAME:CEST
DTSTART:20240331T010000
END:DAYLIGHT
BEGIN:STANDARD
TZOFFSETFROM:+0200
TZOFFSETTO:+0100
TZNAME:CET
DTSTART:20241027T010000
END:STANDARD
BEGIN:DAYLIGHT
TZOFFSETFROM:+0100
TZOFFSETTO:+0200
TZNAME:CEST
DTSTART:20250330T010000
END:DAYLIGHT
BEGIN:STANDARD
TZOFFSETFROM:+0200
TZOFFSETTO:+0100
TZNAME:CET
DTSTART:20251026T010000
END:STANDARD
BEGIN:DAYLIGHT
TZOFFSETFROM:+0100
TZOFFSETTO:+0200
TZNAME:CEST
DTSTART:20260329T010000
END:DAYLIGHT
BEGIN:STANDARD
TZOFFSETFROM:+0200
TZOFFSETTO:+0100
TZNAME:CET
DTSTART:20261025T010000
END:STANDARD
END:VTIMEZONE
BEGIN:VEVENT
DTSTART;TZID=Europe/Paris:20250905T210000
DTEND;TZID=Europe/Paris:20250906T010000
DTSTAMP:20260419T170835
CREATED:20250822T090111Z
LAST-MODIFIED:20250822T091855Z
UID:4014-1757106000-1757120400@www.slavonija-podravina-events.hr
SUMMARY:Plesna večer: Retro Vynil Party
DESCRIPTION:Plesna večer u Centru kulture Vanadis u retro atmosferi i hitovima s gramofonskih ploča! Za mix najvećih hitova i pravi glazbeni vremeplov zadužen je DJ Leo. \nParty počinje u 21.00h. \nPles\, druženje i dobra vibra – sve na jednom mjestu! Navratite! Ulaz je besplatan. \n\n		\n		\n			\n				\n			\n			\n		\n\n 
URL:https://www.slavonija-podravina-events.hr/event/plesna-vecer-retro-vynil-party/
LOCATION:Virovitica
CATEGORIES:Glazba i ples,Noćni život,Zabava
ATTACH;FMTTYPE=image/jpeg:https://www.slavonija-podravina-events.hr/wp-content/uploads/2025/08/Slika1.jpg
ORGANIZER;CN="Grad Virovitica":MAILTO:grad@virovitica.hr
END:VEVENT
BEGIN:VEVENT
DTSTART;TZID=Europe/Paris:20250912T210000
DTEND;TZID=Europe/Paris:20250912T233000
DTSTAMP:20260419T170835
CREATED:20250911T121605Z
LAST-MODIFIED:20250911T121605Z
UID:4089-1757710800-1757719800@www.slavonija-podravina-events.hr
SUMMARY:Back to 90’s Party
DESCRIPTION:Back to 90’s Party  \n Petak\, 12.9.2025. \n Bonn Caffee \n  \nVrati se u lude 90-e uz hitove koji su obilježili cijelo desetljeće! ✨ \nČekaju te dobra vibra\, retro plesni podij i posebna pića večeri. \n  \n Specijalni koktel večeri: Apple Twist – svjež\, voćan i pun energije\, baš kao 90-e! \n  \nDođi i pripremi se za noć punu nostalgije i zabave!
URL:https://www.slavonija-podravina-events.hr/event/back-to-90s-party/
LOCATION:Orahovica\, Trg pl. Mihalovića 1\, Orahovica\, Virovitičko-podravska županija\, 33515\, Croatia (Local Name: Hrvatska)
CATEGORIES:Glazba i ples,Noćni život,Zabava
ATTACH;FMTTYPE=image/jpeg:https://www.slavonija-podravina-events.hr/wp-content/uploads/2025/09/image0.jpeg
END:VEVENT
BEGIN:VEVENT
DTSTART;TZID=Europe/Paris:20250919T180000
DTEND;TZID=Europe/Paris:20250919T220000
DTSTAMP:20260419T170835
CREATED:20250821T064225Z
LAST-MODIFIED:20250821T064225Z
UID:3987-1758304800-1758319200@www.slavonija-podravina-events.hr
SUMMARY:Vinski party u plemićkom perivoju
DESCRIPTION:Volimo mi našu Dravu\, a drago nam je i pohvaliti se bogatom plemićkom poviješću. Baš se lijepo poklopilo da u Noskovcima imamo i jedno i drugo. Idealno mjesto za naš treći susret. Tu je obnovljeni ljetnikovac grofa Draškovića\, dom prekrasnoj Dravskoj priči. Oko njega stoljetni perivoj\, a malo dalje obala Drave. Zeleno i održivo\, ulickano i sređeno – organski vrt\, oporavilište za ptice\, hotel za kukce… \nU ljetnikovcu domaćinska atmosfera\, svaka prostorija posvećena je drugoj vrsti – od bregunica\, sova\, šišmiša\, do dabrova\, leptira\, vretenaca… Ima se što za vidjeti i naučiti\, a i dušu ćete odmoriti. Pa ako niste već bili\, Vinski party dobar je povod da svratite do Posjetiteljskog centra koji je dio naše Plemićke rute. Ako ste bili\, znate o čemu pričamo i sigurni smo da se vidimo opet. \nČekamo vas! \nKotizacija: 22\,00 eura \nCijena kotizacije uključuje: \n\nPiće dobrodošlice (Harmund d.o.o. – Šljivovica)\nVođenu vinsku degustaciju tri pažljivo odabrana vina\nSlavonske zalogaje\nGlazbeni program: Vokalni sastav Artes\nRazgled Posjetiteljskog centra Dravska priča\n\nMaksimalan broj osoba: 50 \nPoveznica na obrazac za prijavu: https://forms.gle/bXopBWp6rRkvAb6KA
URL:https://www.slavonija-podravina-events.hr/event/vinski-party-u-plemickom-perivoju/
LOCATION:Posjetiteljski centar Dravska priča
CATEGORIES:Aktivnosti za odrasle,Gastronomija i enologija,Glazba i ples,WINE NOT!?,Zabava
ATTACH;FMTTYPE=image/jpeg:https://www.slavonija-podravina-events.hr/wp-content/uploads/2025/08/WINE-NOT-Noskovci-2024-Kristijan-Toplak-10.jpg
ORGANIZER;CN="Turisti%C4%8Dka zajednica Viroviti%C4%8Dko-podravske %C5%BEupanije":MAILTO:visit@slavonija-podravina.hr
END:VEVENT
END:VCALENDAR