BEGIN:VCALENDAR
VERSION:2.0
PRODID:-//Slavonija i Podravina - ECPv6.15.13//NONSGML v1.0//EN
CALSCALE:GREGORIAN
METHOD:PUBLISH
X-WR-CALNAME:Slavonija i Podravina
X-ORIGINAL-URL:https://www.slavonija-podravina-events.hr
X-WR-CALDESC:Events for Slavonija i Podravina
REFRESH-INTERVAL;VALUE=DURATION:PT1H
X-Robots-Tag:noindex
X-PUBLISHED-TTL:PT1H
BEGIN:VTIMEZONE
TZID:Europe/Paris
BEGIN:DAYLIGHT
TZOFFSETFROM:+0100
TZOFFSETTO:+0200
TZNAME:CEST
DTSTART:20240331T010000
END:DAYLIGHT
BEGIN:STANDARD
TZOFFSETFROM:+0200
TZOFFSETTO:+0100
TZNAME:CET
DTSTART:20241027T010000
END:STANDARD
BEGIN:DAYLIGHT
TZOFFSETFROM:+0100
TZOFFSETTO:+0200
TZNAME:CEST
DTSTART:20250330T010000
END:DAYLIGHT
BEGIN:STANDARD
TZOFFSETFROM:+0200
TZOFFSETTO:+0100
TZNAME:CET
DTSTART:20251026T010000
END:STANDARD
BEGIN:DAYLIGHT
TZOFFSETFROM:+0100
TZOFFSETTO:+0200
TZNAME:CEST
DTSTART:20260329T010000
END:DAYLIGHT
BEGIN:STANDARD
TZOFFSETFROM:+0200
TZOFFSETTO:+0100
TZNAME:CET
DTSTART:20261025T010000
END:STANDARD
END:VTIMEZONE
BEGIN:VEVENT
DTSTART;TZID=Europe/Paris:20251107T190000
DTEND;TZID=Europe/Paris:20251107T190000
DTSTAMP:20260419T142547
CREATED:20251003T094151Z
LAST-MODIFIED:20251003T094623Z
UID:4207-1762542000-1762542000@www.slavonija-podravina-events.hr
SUMMARY:Martinje
DESCRIPTION:Dragi ljubitelji dobre kapljice i još bolje zabave – spremite se za nezaboravno martinjsku večer koja će se u petak\, 7. studenoga s početkom u 19 sati\, održati u Pivnici Jelen u Virovitici. \nUdruga vinograda i vinara “Sveti Vinko” i ove je godine svim zaljubljenicima u vino i tradiciju pripremila tradicionalan program. Vrhunac večeri bit će ceremonija krštenja mošta\, a očekuju vas i bogata tradicionalna večera i neograničena degustacija vina i ostalih pića. \nZa dobru atmosferu pobrinut će se tamburaši\, čiji će zvuci pratiti goste sve do kasnih sati\, stvarajući nezaboravnu martinjsko-vinsku čaroliju. \nUlaznice za ovu nezaboravnu večer dostupne su po cijeni od 30 eura\, a možete ih kupiti u trgovini Borovo. \nNe propustite vinsku feštu\, rezervirajte svoje mjesto i pridružite se proslavi Martinja 2025.
URL:https://www.slavonija-podravina-events.hr/event/martinje/
LOCATION:Virovitica
CATEGORIES:Baština i folklor,Gastronomija i enologija,Glazba i ples,Zabava
ATTACH;FMTTYPE=image/png:https://www.slavonija-podravina-events.hr/wp-content/uploads/2025/10/Martinje.png
ORGANIZER;CN="Udruga vinograda i vinara Sveti Vinko":MAILTO:svvinko.virovitica@gmail.com
END:VEVENT
BEGIN:VEVENT
DTSTART;TZID=Europe/Paris:20251113T190000
DTEND;TZID=Europe/Paris:20251113T204500
DTSTAMP:20260419T142547
CREATED:20251105T111750Z
LAST-MODIFIED:20251105T112247Z
UID:4314-1763060400-1763066700@www.slavonija-podravina-events.hr
SUMMARY:Druženje za žene: Dance & Wine
DESCRIPTION:U četvrtak\, 13. studenoga od 19 sati u Centru kulture Vanadis sprema se vinsko plesni događaj za naše Virovitičanke svih uzrasta. \nU organizaciji Turističke zajednice grada Virovitice te Grada Virovitice\, a u suradnji sa Kristinom Mikolčić (plesačicom i fitnes trenericom) vodimo vas u svijet senzulanih i ženstvenih plesnih pokreta Bachate\, uz finu čašu vina. \nOčekuje vas sve što ženi treba da bi uživala i ugodila svim svojim čulima: slani zalogaji\, vino\, ples i žensko druženje. \nCijena ulaznice je 28 € u pretprodaji\, a 30 € na ulazu (uključuje čašu vina\, kanepeje i plesno druženje). \nMaloljetne osobe također su dobrodošle ali njima NE točimo alkohol. \nPrijavnicu možete ispuniti OVDJE.
URL:https://www.slavonija-podravina-events.hr/event/druzenje-za-zene-dance-wine/
LOCATION:Virovitica
CATEGORIES:Gastronomija i enologija,Glazba i ples,Zabava
ATTACH;FMTTYPE=image/jpeg:https://www.slavonija-podravina-events.hr/wp-content/uploads/2025/11/Dance-Wine.jpg
ORGANIZER;CN="Grad Virovitica":MAILTO:grad@virovitica.hr
END:VEVENT
BEGIN:VEVENT
DTSTART;TZID=Europe/Paris:20251129T170000
DTEND;TZID=Europe/Paris:20251130T213000
DTSTAMP:20260419T142547
CREATED:20251119T133828Z
LAST-MODIFIED:20251128T145542Z
UID:4328-1764435600-1764538200@www.slavonija-podravina-events.hr
SUMMARY:Prosinac u gradu: Prvi adventski vikend i koncert Tomislava Bralića i klape Intrade
DESCRIPTION:U subotu\, 29. studenoga\, službeno započinje manifestacija Advent u Virovitici prigodnim programom: \n\n17 sati: otvorenje Klizališta uz atraktivnu klizačku predstavu Bajka na ledu Klizačkog kluba Medo\n18 sati: Božićni sajam rukotvorina i lokalnih proizvoda\n18 sati: Paljenje 1. adventske svijeće\n18:30 sati: Nastup Glazbene igraonice GŠ J. Vlašimsky\n19:00 sati: Koncert Tomislav Bralić i klapa Intrade\n\nPrvi adventski vikend nastavlja se i u nedjelju\, 30. studenoga\, kada su na rasporedu: \n\n17 sati: Kućica djeda Božićnjaka\n17 sati: Božićni sajam rukotvorina i lokalnih proizvoda\n18:30 sati: Koncert Akustičnog dua AS\n\nVidimo se 29.11. na još jednom nezaboravnom Prosincu u gradu!
URL:https://www.slavonija-podravina-events.hr/event/prosinact-u-gradu-prvi-adventski-vikend-i-koncert-tomislava-bralica-i-klape-intrade/
LOCATION:Virovitica
CATEGORIES:Festivali i manifestacije,Gastronomija i enologija,Glazba i ples,Koncerti,Prosinac u gradu,Zabava
ATTACH;FMTTYPE=image/png:https://www.slavonija-podravina-events.hr/wp-content/uploads/2025/11/2.png
ORGANIZER;CN="Turisti%C4%8Dka zajednica grada Virovitice":MAILTO:ured@tz-virovitica.hr
END:VEVENT
BEGIN:VEVENT
DTSTART;TZID=Europe/Paris:20251129T210000
DTEND;TZID=Europe/Paris:20251129T210000
DTSTAMP:20260419T142547
CREATED:20251129T114046Z
LAST-MODIFIED:20251129T114123Z
UID:4397-1764450000-1764450000@www.slavonija-podravina-events.hr
SUMMARY:Disco Party Night u Vanadisu
DESCRIPTION:Prosinac u Centru kulture Vanadis započinje u plesnom ritmu. Pred nama je mjesec ispunjen glazbom\, svjetlima i nezaboravnom atmosferom\, a sve kreće prvom plesnom večeri koja će se održati u subotu\, 29. studenoga\, s početkom u 21 sat. \nPosjetitelje očekuje večer puna energije\, plesa i opuštenog druženja – baš onako kako prosinac i zaslužuje. Disko ritmovi\, posebno uređen prostor i dobra vibra stvorit će savršenu atmosferu za sve koji vole zaplesati i prepustiti se glazbi. \nAko ste željni zabave i ritma pod reflektorima\, prosinački program u Vanadisu pravo je mjesto za vas!
URL:https://www.slavonija-podravina-events.hr/event/disco-party-night-u-vanadisu/
LOCATION:Virovitica
CATEGORIES:Glazba i ples,Noćni život,Zabava
ATTACH;FMTTYPE=image/jpeg:https://www.slavonija-podravina-events.hr/wp-content/uploads/2025/11/Disco-Party-Night.jpg
ORGANIZER;CN="Grad Virovitica":MAILTO:grad@virovitica.hr
END:VEVENT
END:VCALENDAR