BEGIN:VCALENDAR
VERSION:2.0
PRODID:-//Slavonija i Podravina - ECPv6.15.13//NONSGML v1.0//EN
CALSCALE:GREGORIAN
METHOD:PUBLISH
X-ORIGINAL-URL:https://www.slavonija-podravina-events.hr
X-WR-CALDESC:Events for Slavonija i Podravina
REFRESH-INTERVAL;VALUE=DURATION:PT1H
X-Robots-Tag:noindex
X-PUBLISHED-TTL:PT1H
BEGIN:VTIMEZONE
TZID:Europe/Paris
BEGIN:DAYLIGHT
TZOFFSETFROM:+0100
TZOFFSETTO:+0200
TZNAME:CEST
DTSTART:20240331T010000
END:DAYLIGHT
BEGIN:STANDARD
TZOFFSETFROM:+0200
TZOFFSETTO:+0100
TZNAME:CET
DTSTART:20241027T010000
END:STANDARD
BEGIN:DAYLIGHT
TZOFFSETFROM:+0100
TZOFFSETTO:+0200
TZNAME:CEST
DTSTART:20250330T010000
END:DAYLIGHT
BEGIN:STANDARD
TZOFFSETFROM:+0200
TZOFFSETTO:+0100
TZNAME:CET
DTSTART:20251026T010000
END:STANDARD
BEGIN:DAYLIGHT
TZOFFSETFROM:+0100
TZOFFSETTO:+0200
TZNAME:CEST
DTSTART:20260329T010000
END:DAYLIGHT
BEGIN:STANDARD
TZOFFSETFROM:+0200
TZOFFSETTO:+0100
TZNAME:CET
DTSTART:20261025T010000
END:STANDARD
END:VTIMEZONE
BEGIN:VEVENT
DTSTART;TZID=Europe/Paris:20250814T190000
DTEND;TZID=Europe/Paris:20250816T210000
DTSTAMP:20260419T231750
CREATED:20250716T120548Z
LAST-MODIFIED:20250717T110537Z
UID:3886-1755198000-1755378000@www.slavonija-podravina-events.hr
SUMMARY:VUF - Virovitički ulični festival
DESCRIPTION:Svakoga Rokova gradski centar postaje pozornica za čaroliju pokreta\, plesa\, smijeha i vatre u izvedbi ljudi koji žive ljubav prema zabavi i festivalu. Žongleri\, hodači na štulama\, cirkusanti\, klaunovi\, bubnjari\, zračni akrobati i brojni drugi ulični umjetnici već više od deset godina u sklopu Rokova zabavljaju sve posjetitelje. Tako će se i ove godine održati Virovitički ulični festival – popularni VUF! \nVUF u četvrtak starta u 19:00 i traje do 21:00 sat\, a u petak i subotu počinje od 18:30 i traje do 21:00 sat.
URL:https://www.slavonija-podravina-events.hr/event/vuf-viroviticki-ulicni-festival/
LOCATION:Virovitica
CATEGORIES:Festivali i manifestacije,Glazba i ples,Zabava
ATTACH;FMTTYPE=image/jpeg:https://www.slavonija-podravina-events.hr/wp-content/uploads/2025/07/VUF-Viroviticki-ulicni-festival.jpg
ORGANIZER;CN="Turisti%C4%8Dka zajednica grada Virovitice":MAILTO:ured@tz-virovitica.hr
END:VEVENT
BEGIN:VEVENT
DTSTART;TZID=Europe/Paris:20250815T183000
DTEND;TZID=Europe/Paris:20250815T193000
DTSTAMP:20260419T231750
CREATED:20250812T114612Z
LAST-MODIFIED:20250813T094659Z
UID:3949-1755282600-1755286200@www.slavonija-podravina-events.hr
SUMMARY:Rokovo: 4. Smotra folklora "Gdje se čuje i što i kaj"
DESCRIPTION:Ova prepoznatljiva manifestacija\, koja se održava u čast Dana grada Virovitice – Rokova\, okupit će brojne ljubitelje folklora i kulturnog stvaralaštva\, nudeći im jedinstven doživljaj bogatstva narodnih plesova i pjesama. \nPROGRAM SMOTRE \n18:30 – 18:35  Pozdravna riječ domaćina\n18:35  – 18:45  KUD Virovitica – splet slavonskih pjesama i plesa\n18:45 – 18::55 KUD „Seljačka sloga“\, Baranjsko Petrovo Selo Benićanci\n18:55 – 19:05 KUD „Zrin“\, Legrad\n19:05 – 19:15 HKUD Biseri Slavonije\, Beničanci\n19:15 – 19:25  KUD Virovitica – starogradska sekcija\n19:25 – 19:35  Zajednički nastup – slavonsko kolo
URL:https://www.slavonija-podravina-events.hr/event/rokovo-4-smotra-folklora-gdje-se-cuje-i-sto-i-kaj/
LOCATION:Virovitica
CATEGORIES:Baština i folklor,Festivali i manifestacije,Glazba i ples
ATTACH;FMTTYPE=image/jpeg:https://www.slavonija-podravina-events.hr/wp-content/uploads/2025/08/Smotra-folklora.jpg
ORGANIZER;CN="KUD Virovitica":MAILTO:goslermatija@gmail.com
END:VEVENT
END:VCALENDAR