BEGIN:VCALENDAR
VERSION:2.0
PRODID:-//Slavonija i Podravina - ECPv6.15.13//NONSGML v1.0//EN
CALSCALE:GREGORIAN
METHOD:PUBLISH
X-WR-CALNAME:Slavonija i Podravina
X-ORIGINAL-URL:https://www.slavonija-podravina-events.hr
X-WR-CALDESC:Events for Slavonija i Podravina
REFRESH-INTERVAL;VALUE=DURATION:PT1H
X-Robots-Tag:noindex
X-PUBLISHED-TTL:PT1H
BEGIN:VTIMEZONE
TZID:Europe/Paris
BEGIN:DAYLIGHT
TZOFFSETFROM:+0100
TZOFFSETTO:+0200
TZNAME:CEST
DTSTART:20240331T010000
END:DAYLIGHT
BEGIN:STANDARD
TZOFFSETFROM:+0200
TZOFFSETTO:+0100
TZNAME:CET
DTSTART:20241027T010000
END:STANDARD
BEGIN:DAYLIGHT
TZOFFSETFROM:+0100
TZOFFSETTO:+0200
TZNAME:CEST
DTSTART:20250330T010000
END:DAYLIGHT
BEGIN:STANDARD
TZOFFSETFROM:+0200
TZOFFSETTO:+0100
TZNAME:CET
DTSTART:20251026T010000
END:STANDARD
BEGIN:DAYLIGHT
TZOFFSETFROM:+0100
TZOFFSETTO:+0200
TZNAME:CEST
DTSTART:20260329T010000
END:DAYLIGHT
BEGIN:STANDARD
TZOFFSETFROM:+0200
TZOFFSETTO:+0100
TZNAME:CET
DTSTART:20261025T010000
END:STANDARD
END:VTIMEZONE
BEGIN:VEVENT
DTSTART;TZID=Europe/Paris:20250912T210000
DTEND;TZID=Europe/Paris:20250912T233000
DTSTAMP:20260419T183911
CREATED:20250911T121605Z
LAST-MODIFIED:20250911T121605Z
UID:4089-1757710800-1757719800@www.slavonija-podravina-events.hr
SUMMARY:Back to 90’s Party
DESCRIPTION:Back to 90’s Party  \n Petak\, 12.9.2025. \n Bonn Caffee \n  \nVrati se u lude 90-e uz hitove koji su obilježili cijelo desetljeće! ✨ \nČekaju te dobra vibra\, retro plesni podij i posebna pića večeri. \n  \n Specijalni koktel večeri: Apple Twist – svjež\, voćan i pun energije\, baš kao 90-e! \n  \nDođi i pripremi se za noć punu nostalgije i zabave!
URL:https://www.slavonija-podravina-events.hr/event/back-to-90s-party/
LOCATION:Orahovica\, Trg pl. Mihalovića 1\, Orahovica\, Virovitičko-podravska županija\, 33515\, Croatia (Local Name: Hrvatska)
CATEGORIES:Glazba i ples,Noćni život,Zabava
ATTACH;FMTTYPE=image/jpeg:https://www.slavonija-podravina-events.hr/wp-content/uploads/2025/09/image0.jpeg
END:VEVENT
END:VCALENDAR