BEGIN:VCALENDAR
VERSION:2.0
PRODID:-//Slavonija i Podravina - ECPv6.15.13//NONSGML v1.0//EN
CALSCALE:GREGORIAN
METHOD:PUBLISH
X-ORIGINAL-URL:https://www.slavonija-podravina-events.hr
X-WR-CALDESC:Events for Slavonija i Podravina
REFRESH-INTERVAL;VALUE=DURATION:PT1H
X-Robots-Tag:noindex
X-PUBLISHED-TTL:PT1H
BEGIN:VTIMEZONE
TZID:Europe/Paris
BEGIN:DAYLIGHT
TZOFFSETFROM:+0100
TZOFFSETTO:+0200
TZNAME:CEST
DTSTART:20240331T010000
END:DAYLIGHT
BEGIN:STANDARD
TZOFFSETFROM:+0200
TZOFFSETTO:+0100
TZNAME:CET
DTSTART:20241027T010000
END:STANDARD
BEGIN:DAYLIGHT
TZOFFSETFROM:+0100
TZOFFSETTO:+0200
TZNAME:CEST
DTSTART:20250330T010000
END:DAYLIGHT
BEGIN:STANDARD
TZOFFSETFROM:+0200
TZOFFSETTO:+0100
TZNAME:CET
DTSTART:20251026T010000
END:STANDARD
BEGIN:DAYLIGHT
TZOFFSETFROM:+0100
TZOFFSETTO:+0200
TZNAME:CEST
DTSTART:20260329T010000
END:DAYLIGHT
BEGIN:STANDARD
TZOFFSETFROM:+0200
TZOFFSETTO:+0100
TZNAME:CET
DTSTART:20261025T010000
END:STANDARD
END:VTIMEZONE
BEGIN:VEVENT
DTSTART;TZID=Europe/Paris:20251031T210000
DTEND;TZID=Europe/Paris:20251031T210000
DTSTAMP:20260419T154910
CREATED:20251024T140458Z
LAST-MODIFIED:20251024T140723Z
UID:4265-1761944400-1761944400@www.slavonija-podravina-events.hr
SUMMARY:Plesna večer u Vanadisu: Dance Party "Goodbye\, October!"
DESCRIPTION:Grad Virovitica organizira novu Plesnu večer u Vanadisu! \nUz retro ritmove domaće i strane glazbe za koju je zadužen DJ Smiley\, opraštamo se od listopada. \nVrijeme: 31.10. s početkom u 21.00h. Ulaz je besplatan! Vidimo se!
URL:https://www.slavonija-podravina-events.hr/event/plesna-vecer-u-vanadisu-dance-party-goodbye-october/
LOCATION:Virovitica
CATEGORIES:Glazba i ples,Noćni život,Zabava
ATTACH;FMTTYPE=image/png:https://www.slavonija-podravina-events.hr/wp-content/uploads/2025/10/Goodbye-October.png
ORGANIZER;CN="Grad Virovitica":MAILTO:grad@virovitica.hr
END:VEVENT
END:VCALENDAR