BEGIN:VCALENDAR
VERSION:2.0
PRODID:-//Slavonija i Podravina - ECPv6.15.13//NONSGML v1.0//EN
CALSCALE:GREGORIAN
METHOD:PUBLISH
X-ORIGINAL-URL:https://www.slavonija-podravina-events.hr
X-WR-CALDESC:Events for Slavonija i Podravina
REFRESH-INTERVAL;VALUE=DURATION:PT1H
X-Robots-Tag:noindex
X-PUBLISHED-TTL:PT1H
BEGIN:VTIMEZONE
TZID:Europe/Paris
BEGIN:DAYLIGHT
TZOFFSETFROM:+0100
TZOFFSETTO:+0200
TZNAME:CEST
DTSTART:20240331T010000
END:DAYLIGHT
BEGIN:STANDARD
TZOFFSETFROM:+0200
TZOFFSETTO:+0100
TZNAME:CET
DTSTART:20241027T010000
END:STANDARD
BEGIN:DAYLIGHT
TZOFFSETFROM:+0100
TZOFFSETTO:+0200
TZNAME:CEST
DTSTART:20250330T010000
END:DAYLIGHT
BEGIN:STANDARD
TZOFFSETFROM:+0200
TZOFFSETTO:+0100
TZNAME:CET
DTSTART:20251026T010000
END:STANDARD
BEGIN:DAYLIGHT
TZOFFSETFROM:+0100
TZOFFSETTO:+0200
TZNAME:CEST
DTSTART:20260329T010000
END:DAYLIGHT
BEGIN:STANDARD
TZOFFSETFROM:+0200
TZOFFSETTO:+0100
TZNAME:CET
DTSTART:20261025T010000
END:STANDARD
END:VTIMEZONE
BEGIN:VEVENT
DTSTART;TZID=Europe/Paris:20251107T190000
DTEND;TZID=Europe/Paris:20251107T190000
DTSTAMP:20260419T154914
CREATED:20251003T094151Z
LAST-MODIFIED:20251003T094623Z
UID:4207-1762542000-1762542000@www.slavonija-podravina-events.hr
SUMMARY:Martinje
DESCRIPTION:Dragi ljubitelji dobre kapljice i još bolje zabave – spremite se za nezaboravno martinjsku večer koja će se u petak\, 7. studenoga s početkom u 19 sati\, održati u Pivnici Jelen u Virovitici. \nUdruga vinograda i vinara “Sveti Vinko” i ove je godine svim zaljubljenicima u vino i tradiciju pripremila tradicionalan program. Vrhunac večeri bit će ceremonija krštenja mošta\, a očekuju vas i bogata tradicionalna večera i neograničena degustacija vina i ostalih pića. \nZa dobru atmosferu pobrinut će se tamburaši\, čiji će zvuci pratiti goste sve do kasnih sati\, stvarajući nezaboravnu martinjsko-vinsku čaroliju. \nUlaznice za ovu nezaboravnu večer dostupne su po cijeni od 30 eura\, a možete ih kupiti u trgovini Borovo. \nNe propustite vinsku feštu\, rezervirajte svoje mjesto i pridružite se proslavi Martinja 2025.
URL:https://www.slavonija-podravina-events.hr/event/martinje/
LOCATION:Virovitica
CATEGORIES:Baština i folklor,Gastronomija i enologija,Glazba i ples,Zabava
ATTACH;FMTTYPE=image/png:https://www.slavonija-podravina-events.hr/wp-content/uploads/2025/10/Martinje.png
ORGANIZER;CN="Udruga vinograda i vinara Sveti Vinko":MAILTO:svvinko.virovitica@gmail.com
END:VEVENT
END:VCALENDAR