BEGIN:VCALENDAR
VERSION:2.0
PRODID:-//Slavonija i Podravina - ECPv6.15.13//NONSGML v1.0//EN
CALSCALE:GREGORIAN
METHOD:PUBLISH
X-ORIGINAL-URL:https://www.slavonija-podravina-events.hr
X-WR-CALDESC:Events for Slavonija i Podravina
REFRESH-INTERVAL;VALUE=DURATION:PT1H
X-Robots-Tag:noindex
X-PUBLISHED-TTL:PT1H
BEGIN:VTIMEZONE
TZID:Europe/Paris
BEGIN:DAYLIGHT
TZOFFSETFROM:+0100
TZOFFSETTO:+0200
TZNAME:CEST
DTSTART:20240331T010000
END:DAYLIGHT
BEGIN:STANDARD
TZOFFSETFROM:+0200
TZOFFSETTO:+0100
TZNAME:CET
DTSTART:20241027T010000
END:STANDARD
BEGIN:DAYLIGHT
TZOFFSETFROM:+0100
TZOFFSETTO:+0200
TZNAME:CEST
DTSTART:20250330T010000
END:DAYLIGHT
BEGIN:STANDARD
TZOFFSETFROM:+0200
TZOFFSETTO:+0100
TZNAME:CET
DTSTART:20251026T010000
END:STANDARD
BEGIN:DAYLIGHT
TZOFFSETFROM:+0100
TZOFFSETTO:+0200
TZNAME:CEST
DTSTART:20260329T010000
END:DAYLIGHT
BEGIN:STANDARD
TZOFFSETFROM:+0200
TZOFFSETTO:+0100
TZNAME:CET
DTSTART:20261025T010000
END:STANDARD
END:VTIMEZONE
BEGIN:VEVENT
DTSTART;TZID=Europe/Paris:20251201T180000
DTEND;TZID=Europe/Paris:20251201T190000
DTSTAMP:20260419T143207
CREATED:20251126T122619Z
LAST-MODIFIED:20251126T122619Z
UID:4365-1764612000-1764615600@www.slavonija-podravina-events.hr
SUMMARY:Go\, Johnny\, Go! Popularna američka glazba 1930-1970
DESCRIPTION:Na programu je američka zabavna glazba iz 1930-ih do 1970-ih godina.
URL:https://www.slavonija-podravina-events.hr/event/go-johnny-go-popularna-americka-glazba-1930-1970/
LOCATION:Gradska knjižnica i čitaonica Virovitica\, Trg bana Josipa Jelačića 5\, Virovitica\, Croatia (Local Name: Hrvatska)
CATEGORIES:Glazba i ples
ATTACH;FMTTYPE=image/jpeg:https://www.slavonija-podravina-events.hr/wp-content/uploads/2025/11/go-johhny-go-plakat-virovitica-za-edit_page-0001.jpg
ORGANIZER;CN="Gradska knji%C5%BEnica i %C4%8Ditaonica Virovitica":MAILTO:info@knjiznicavirovitica.hr
END:VEVENT
END:VCALENDAR