BEGIN:VCALENDAR
VERSION:2.0
PRODID:-//Slavonija i Podravina - ECPv6.15.13//NONSGML v1.0//EN
CALSCALE:GREGORIAN
METHOD:PUBLISH
X-ORIGINAL-URL:https://www.slavonija-podravina-events.hr
X-WR-CALDESC:Events for Slavonija i Podravina
REFRESH-INTERVAL;VALUE=DURATION:PT1H
X-Robots-Tag:noindex
X-PUBLISHED-TTL:PT1H
BEGIN:VTIMEZONE
TZID:Europe/Paris
BEGIN:DAYLIGHT
TZOFFSETFROM:+0100
TZOFFSETTO:+0200
TZNAME:CEST
DTSTART:20240331T010000
END:DAYLIGHT
BEGIN:STANDARD
TZOFFSETFROM:+0200
TZOFFSETTO:+0100
TZNAME:CET
DTSTART:20241027T010000
END:STANDARD
BEGIN:DAYLIGHT
TZOFFSETFROM:+0100
TZOFFSETTO:+0200
TZNAME:CEST
DTSTART:20250330T010000
END:DAYLIGHT
BEGIN:STANDARD
TZOFFSETFROM:+0200
TZOFFSETTO:+0100
TZNAME:CET
DTSTART:20251026T010000
END:STANDARD
BEGIN:DAYLIGHT
TZOFFSETFROM:+0100
TZOFFSETTO:+0200
TZNAME:CEST
DTSTART:20260329T010000
END:DAYLIGHT
BEGIN:STANDARD
TZOFFSETFROM:+0200
TZOFFSETTO:+0100
TZNAME:CET
DTSTART:20261025T010000
END:STANDARD
END:VTIMEZONE
BEGIN:VEVENT
DTSTART;TZID=Europe/Paris:20251205T190000
DTEND;TZID=Europe/Paris:20251207T213000
DTSTAMP:20260419T143205
CREATED:20251119T154756Z
LAST-MODIFIED:20251205T131207Z
UID:4338-1764961200-1765143000@www.slavonija-podravina-events.hr
SUMMARY:Prosinac u gradu: Drugi adventski vikend i koncert grupe Pavel
DESCRIPTION:Drugi Advent u Virovitici zbog lošeg kišnog vremena neće se održati u punom obimu u petak\, 5. prosinca. \n\nKoncert grupe Pavel održat će se na Šetnicu u nedjelju 7. prosinca s početkom od 19 sati.\n\nU subotu\, 6. prosinca očekuje vas: \n\n18 sati: Božićni sajam rukotvorina i lokalnih proizvoda\n18 sati: Paljenje 2. adventske svijeće\n18:30 sati: Koncert akustičnog dua Ivona & Marko\n\na u nedjelju\, uz koncert grupe Pavel\, na Šetnici vas očekuje i: \n\n17 sati: Kućica djeda Božićnjaka\n17 sati: Božićni sajam rukotvorina i lokalnih proizvoda\n\nVidimo se i ovog vikenda na Prosincu u gradu!
URL:https://www.slavonija-podravina-events.hr/event/prosinac-u-gradu-drugi-adventski-vikend-i-koncert-grupe-pavel/
LOCATION:Virovitica
CATEGORIES:Festivali i manifestacije,Gastronomija i enologija,Glazba i ples,Koncerti,Prosinac u gradu,Zabava
ATTACH;FMTTYPE=image/jpeg:https://www.slavonija-podravina-events.hr/wp-content/uploads/2025/11/Koncert-grupe-Pavel.jpg
ORGANIZER;CN="Turisti%C4%8Dka zajednica grada Virovitice":MAILTO:ured@tz-virovitica.hr
END:VEVENT
END:VCALENDAR